BEGIN:VCALENDAR
VERSION:2.0
PRODID:-//hacksw/handcal//NONSGML v1.0//EN
BEGIN:VEVENT
SUMMARY:Saint Roman, Mont Aiguille (heure de depart decalee a 13h 30)
UID:a574533f-d6f5-4d61-a24d-d614a1652b82
DTSTART:20260408T113000Z
DTEND:20260408T220000Z
LOCATION:Localisation   
CATEGORIES:Sportif
STATUS:
DESCRIPTION:<table style="width:439px;"
 width="437">
 	<colgroup>
 		<col style="width:133pt;"
 width="177">
 		<col style="width:47pt;" width="62">
 		<col
 style="width:21pt;" width="28">
 		<col span="2" style="width:64pt;"
 width="85">
 	</colgroup>
 	<tbody>
 		<tr>
 			<td class="xl73"
 style="height:21px;width:177px;text-align:left;padding-left:1px;background-color:#f2f2f2;"><span
 style="font-size:16px;"><span style="font-weight:400;"><span
 style="font-style:normal;"><span style="text-decoration:none;"><span
 style="font-family:'Liberation Sans';">Distance; D+; Duree
 :</span></span></span></span></span></td>
 			<td class="xl76"
 style="width:62px;text-align:right;padding-left:1px;background-color:#f2f2f2;"><span
 style="font-size:16px;"><span style="font-weight:400;"><span
 style="font-style:normal;"><span style="text-decoration:none;"><span
 style="font-family:'Liberation
 Sans';">8,5</span></span></span></span></span></td>
 			<td
 class="xl78"
 style="width:28px;text-align:left;padding-left:1px;background-color:#f2f2f2;"><span
 style="font-size:16px;"><span style="font-weight:400;"><span
 style="font-style:normal;"><span style="text-decoration:none;"><span
 style="font-family:'Liberation
 Sans';">km</span></span></span></span></span></td>
 			<td
 class="xl72"
 style="width:85px;text-align:center;padding-left:1px;background-color:#f2f2f2;"><span
 style="font-size:16px;"><span style="font-weight:400;"><span
 style="font-style:normal;"><span style="text-decoration:none;"><span
 style="font-family:'Liberation
 Sans';">260m</span></span></span></span></span></td>
 			<td
 class="xl71"
 style="width:85px;text-align:center;padding-left:1px;background-color:#f2f2f2;"><span
 style="font-size:16px;"><span style="font-weight:400;"><span
 style="font-style:normal;"><span style="text-decoration:none;"><span
 style="font-family:'Liberation
 Sans';">4h00</span></span></span></span></span></td>
 		</tr>
 		<tr>
 			<td
 class="xl73"
 style="height:21px;text-align:left;padding-left:1px;background-color:#f2f2f2;"><span
 style="font-size:16px;"><span style="font-weight:400;"><span
 style="font-style:normal;"><span style="text-decoration:none;"><span
 style="font-family:'Liberation Sans';">Animateurs
 :</span></span></span></span></span></td>
 			<td class="xl72"
 colspan="2"
 style="text-align:center;padding-left:1px;background-color:#f2f2f2;"><span
 style="font-size:16px;"><span style="font-weight:400;"><span
 style="font-style:normal;"><span style="text-decoration:none;"><span
 style="font-family:'Liberation
 Sans';">Dominique</span></span></span></span></span></td>
 			<td
 class="xl72"
 style="text-align:center;padding-left:1px;background-color:#f2f2f2;"><span
 style="font-size:16px;"><span style="font-weight:400;"><span
 style="font-style:normal;"><span style="text-decoration:none;"><span
 style="font-family:'Liberation
 Sans';">Christiane</span></span></span></span></span></td>
 			<td
 class="xl71"
 style="text-align:center;padding-left:1px;background-color:#f2f2f2;"><span
 style="font-size:16px;"><span style="font-weight:400;"><span
 style="font-style:normal;"><span style="text-decoration:none;"><span
 style="font-family:'Liberation
 Sans';"> </span></span></span></span></span></td>
 		</tr>
 		<tr>
 			<td
 class="xl70"
 style="height:21px;text-align:left;padding-left:1px;background-color:#f2f2f2;"><span
 style="font-size:16px;"><span style="font-weight:400;"><span
 style="font-style:normal;"><span style="text-decoration:none;"><span
 style="font-family:'Liberation Sans';">Niveau
 :</span></span></span></span></span></td>
 			<td class="xl79"
 colspan="4"
 style="text-align:center;padding-left:1px;background-color:#92d050;"><span
 style="font-size:16px;"><span style="font-weight:400;"><span
 style="text-decoration:none;"><span><span><span
 style="font-family:'Liberation Sans';"><span
 style="font-style:normal;">Facile</span></span></span></span></span></span></span></td>
 		</tr>
 		<tr>
 			<td
 class="xl70"
 style="height:21px;text-align:left;padding-left:1px;background-color:#f2f2f2;"><span
 style="font-size:16px;"><span style="font-weight:400;"><span
 style="font-style:normal;"><span style="text-decoration:none;"><span
 style="font-family:'Liberation Sans';">Trajet; Cout <font><span
 style="font-size:8pt;"><span style="font-weight:400;"><span
 style="font-style:normal;"><span style="text-decoration:none;"><span
 style="font-family:'Liberation
 Sans';">(1)</span></span></span></span></span></font><font><span
 style="font-size:12pt;"><span style="font-weight:400;"><span
 style="font-style:normal;"><span style="text-decoration:none;"><span
 style="font-family:'Liberation Sans';">; Peage
 :</span></span></span></span></span></font></span></span></span></span></span></td>
 			<td
 class="xl76"
 style="text-align:right;padding-left:1px;background-color:#f2f2f2;"><span
 style="font-size:16px;"><span style="font-weight:400;"><span
 style="font-style:normal;"><span style="text-decoration:none;"><span
 style="font-family:'Liberation
 Sans';">70</span></span></span></span></span></td>
 			<td
 class="xl77"
 style="text-align:left;padding-left:1px;background-color:#f2f2f2;"><span
 style="font-size:16px;"><span style="font-weight:400;"><span
 style="font-style:normal;"><span style="text-decoration:none;"><span
 style="font-family:'Liberation
 Sans';">km</span></span></span></span></span></td>
 			<td
 class="xl75"
 style="text-align:center;padding-left:1px;background-color:#f2f2f2;"><span
 style="font-size:16px;"><span style="font-weight:400;"><span
 style="font-style:normal;"><span style="text-decoration:none;"><span
 style="font-family:'Liberation Sans';">21
 €</span></span></span></span></span></td>
 			<td class="xl74"
 style="text-align:center;padding-left:1px;background-color:#f2f2f2;"><span
 style="font-size:16px;"><span style="font-weight:400;"><span
 style="font-style:normal;"><span style="text-decoration:none;"><span
 style="font-family:'Liberation Sans';">0
 €</span></span></span></span></span></td>
 		</tr>
 	</tbody>
 </table>
URL;VALUE=URI:https://les-randonneurs-st-martinois.sportsregions.fr/evenements/2026/04/08/saint-roman-mont-aiguille-heure-de-depart-decalee-a-13h-30-2429151
END:VEVENT
END:VCALENDAR
